BEGIN:VCALENDAR
VERSION:2.0
PRODID:-//River Guardians - ECPv6.15.20//NONSGML v1.0//EN
CALSCALE:GREGORIAN
METHOD:PUBLISH
X-WR-CALNAME:River Guardians
X-ORIGINAL-URL:https://www.riverguardians.com
X-WR-CALDESC:Events for River Guardians
REFRESH-INTERVAL;VALUE=DURATION:PT1H
X-Robots-Tag:noindex
X-PUBLISHED-TTL:PT1H
BEGIN:VTIMEZONE
TZID:Australia/Perth
BEGIN:STANDARD
TZOFFSETFROM:+0800
TZOFFSETTO:+0800
TZNAME:AWST
DTSTART:20230101T000000
END:STANDARD
END:VTIMEZONE
BEGIN:VEVENT
DTSTART;TZID=Australia/Perth:20241102T100000
DTEND;TZID=Australia/Perth:20241102T160000
DTSTAMP:20260419T052749
CREATED:20240912T083710Z
LAST-MODIFIED:20240912T083804Z
UID:1159-1730541600-1730563200@www.riverguardians.com
SUMMARY:Maritime Day 2024
DESCRIPTION:Maritime Day is back! Fremantle Passenger Terminal will showcase over 90 displays\, with plenty of activities for the whole family. We will be joining Dr Delphine Chabanne\, from Murdoch University’s Harry Butler Institute at the Discovering Dolphins stall\, to talk all things resident dolphins! Come along to meet and chat with Delphine\, and hear about her research on the dolphin community of Perth. We will\, of course\, be bringing our dolphin craft for the kids too!   \n 
URL:https://www.riverguardians.com/event/maritime-day-2024/
LOCATION:fFremantle Passenger Terminal\, 1 cliff street\, fremantle\, WA\, 6160\, Australia
ATTACH;FMTTYPE=image/jpeg:https://www.riverguardians.com/wp-content/uploads/2023/10/TOCCelebrateTheForeshore23140of214.jpg
END:VEVENT
BEGIN:VEVENT
DTSTART;TZID=Australia/Perth:20241105T180000
DTEND;TZID=Australia/Perth:20241105T200000
DTSTAMP:20260419T052749
CREATED:20231027T025257Z
LAST-MODIFIED:20240910T034950Z
UID:312-1730829600-1730836800@www.riverguardians.com
SUMMARY:Dolphin Watch Training- Perth
DESCRIPTION:Learn more about the Swan and Canning rivers and the dolphins that call them home. Join Dolphin Watch and become a citizen scientist!\n \nJoin us for this free training event and hear from leading scientists and researchers from the Department of Biodiversity\, Conservation and Attractions and Murdoch University. \nLearn more about the Swan Canning river system\, dolphin biology\, the resident dolphin community\, how to identify the different dolphins and the different behaviours you may be lucky enough to observe. You’ll even received a copy of the brand new 2024 edition of FinBook – an identification catalogue for dolphins observed in the Swan Canning Riverpark. \nAs a trained Dolphin Watcher\, your monitoring reports will contribute to valuable research. Join one of the largest ‘Citizen Scientist’ cohorts in Australia and help us learn more about our resident dolphins and how they use the Riverpark. \nA complimentary supper will be served upon arrival at 6pm with proceedings commencing at 6.30pm. Registrations are essential for this event – register here.
URL:https://www.riverguardians.com/event/dolphin-watch-training-perth/
LOCATION:Scitech\, Sutherland St\, West Perth\, WA\, 6005\, Australia
ATTACH;FMTTYPE=image/jpeg:https://www.riverguardians.com/wp-content/uploads/2023/10/324430285_1248436559072474_6582562836180983444_n-1.jpg
END:VEVENT
END:VCALENDAR