BEGIN:VCALENDAR
VERSION:2.0
PRODID:-//River Guardians - ECPv6.15.20//NONSGML v1.0//EN
CALSCALE:GREGORIAN
METHOD:PUBLISH
X-WR-CALNAME:River Guardians
X-ORIGINAL-URL:https://www.riverguardians.com
X-WR-CALDESC:Events for River Guardians
REFRESH-INTERVAL;VALUE=DURATION:PT1H
X-Robots-Tag:noindex
X-PUBLISHED-TTL:PT1H
BEGIN:VTIMEZONE
TZID:Australia/Perth
BEGIN:STANDARD
TZOFFSETFROM:+0800
TZOFFSETTO:+0800
TZNAME:AWST
DTSTART:20230101T000000
END:STANDARD
END:VTIMEZONE
BEGIN:VEVENT
DTSTART;TZID=Australia/Perth:20240118T093000
DTEND;TZID=Australia/Perth:20240118T110000
DTSTAMP:20260422T032443
CREATED:20231211T064051Z
LAST-MODIFIED:20231211T064051Z
UID:868-1705570200-1705575600@www.riverguardians.com
SUMMARY:Wetland Wonders- Holiday Activity
DESCRIPTION:Join the Nearer to Nature team at Herdsman Lake Discovery Centre for an exciting hands-on program about wetlands and what makes them so special! We will be scooping for aquatic creatures\, play bird bingo and take you on a  guided nature walk through the Paperbark Swamp so you can experience our wetland wonders. This activity is suitable for children 4-7 years of age\, and is not a drop off activity. Tickets must be purchased for participating children only. \nBook now! \n 
URL:https://www.riverguardians.com/event/wetland-wonders-holiday-activity/
LOCATION:Herdsman Lake Discovery Centre\, Cnr Flynn and\, Selby St\, wembley\, WA\, 6014\, Australia
ATTACH;FMTTYPE=image/jpeg:https://www.riverguardians.com/wp-content/uploads/2023/11/Wetland-wildlife-summer-scaled.jpg
END:VEVENT
BEGIN:VEVENT
DTSTART;TZID=Australia/Perth:20240117T090000
DTEND;TZID=Australia/Perth:20240117T103000
DTSTAMP:20260422T032443
CREATED:20231211T063607Z
LAST-MODIFIED:20231211T063607Z
UID:863-1705482000-1705487400@www.riverguardians.com
SUMMARY:Splash Quest-Kayaking for Kids Holiday Activity
DESCRIPTION:Join the Nearer to Nature team in this kayaking adventure on the Swan River starting at A.P Hinds Reserve in Bayswater. We will be exploring the Baigup wetlands (subtropical and temperate coastal saltmash) from the water\, so be on the lookout for over 100 water bird species that have been seen here. Challenge your strength\, balance and agility. Don’t worry if it’s your first time on a kayak\, we’ve got your back! Kayak and life jacket supplied in ticket price. This is a drop off event for ages 8-15 years. Children must be able to swim at least 20 meters and tread water to participate.  \nBook now!
URL:https://www.riverguardians.com/event/splash-quest-kayaking-for-kids-holiday-activity/
LOCATION:A.P Hinds Reserve\, 130 Milne Street\, Bayswater\, WA\, 6053\, Australia
ATTACH;FMTTYPE=image/png:https://www.riverguardians.com/wp-content/uploads/2023/12/Splash_Quest_flyer.png
END:VEVENT
END:VCALENDAR