BEGIN:VCALENDAR
VERSION:2.0
PRODID:-//River Guardians - ECPv6.15.20//NONSGML v1.0//EN
CALSCALE:GREGORIAN
METHOD:PUBLISH
X-WR-CALNAME:River Guardians
X-ORIGINAL-URL:https://www.riverguardians.com
X-WR-CALDESC:Events for River Guardians
REFRESH-INTERVAL;VALUE=DURATION:PT1H
X-Robots-Tag:noindex
X-PUBLISHED-TTL:PT1H
BEGIN:VTIMEZONE
TZID:Australia/Perth
BEGIN:STANDARD
TZOFFSETFROM:+0800
TZOFFSETTO:+0800
TZNAME:AWST
DTSTART:20230101T000000
END:STANDARD
END:VTIMEZONE
BEGIN:VEVENT
DTSTART;TZID=Australia/Perth:20241017T183000
DTEND;TZID=Australia/Perth:20241017T203000
DTSTAMP:20260417T110533
CREATED:20240829T031445Z
LAST-MODIFIED:20240911T082557Z
UID:1075-1729189800-1729197000@www.riverguardians.com
SUMMARY:Our Gardens\, with Josh Byrne - Better Gardens\, Healthier Rivers - MAYLANDS
DESCRIPTION:Our Gardens with Josh Byrne helps Perth residents develop climate resilient gardens while supporting the health of our iconic Swan and Canning Rivers. \nDelivered by ABC TV Gardening Australia presenter and environmental scientist Josh Byrne\, the audience will discover how to create diverse and productive gardens despite the challenges of climate change. He’ll demonstrate clever ways to save water\, increase biodiversity and support the health of our waterways. \nOur Gardens with Josh Byrne is supported by the Department of Biodiversity\, Conservation and Attractions and the River Guardians program. \nA $10 registration fee (including ticketing charges) applies\, with all funds donated to local urban greening initiatives. \nhttps://events.humanitix.com/our-gardens-with-josh-byrne-maylands
URL:https://www.riverguardians.com/event/our-gardens-with-josh-byrne-better-gardens-healthier-rivers-maylands/
LOCATION:Maylands Sport and Recreation Centre\, 50 Clarkson Rd\, Maylands\, WA\, 6051\, Australia
ATTACH;FMTTYPE=image/jpeg:https://www.riverguardians.com/wp-content/uploads/2024/08/Our_Gardens_Insta_2-scaled.jpg
END:VEVENT
END:VCALENDAR