BEGIN:VCALENDAR
VERSION:2.0
PRODID:-//River Guardians - ECPv6.15.20//NONSGML v1.0//EN
CALSCALE:GREGORIAN
METHOD:PUBLISH
X-WR-CALNAME:River Guardians
X-ORIGINAL-URL:https://www.riverguardians.com
X-WR-CALDESC:Events for River Guardians
REFRESH-INTERVAL;VALUE=DURATION:PT1H
X-Robots-Tag:noindex
X-PUBLISHED-TTL:PT1H
BEGIN:VTIMEZONE
TZID:Australia/Perth
BEGIN:STANDARD
TZOFFSETFROM:+0800
TZOFFSETTO:+0800
TZNAME:AWST
DTSTART:20230101T000000
END:STANDARD
END:VTIMEZONE
BEGIN:VEVENT
DTSTART;TZID=Australia/Perth:20240930T093000
DTEND;TZID=Australia/Perth:20240930T110000
DTSTAMP:20260420T172306
CREATED:20240910T041348Z
LAST-MODIFIED:20240910T041348Z
UID:1138-1727688600-1727694000@www.riverguardians.com
SUMMARY:Fabulous Fairy Terns- Holiday Activity
DESCRIPTION:The Fairy Tern is one of Australia’s smallest and rarest seabirds. Each year in spring\, many of them migrate to the Point Walter sandbar to lay their eggs and raise their chicks. However\, nesting so close to human activity has many challenges and the Fairy Terns are at risk! Join us at Point Walter Reserve\, to learn all about the fabulous fairy terns\, why this area is so important to their survival and how we can all help to protect these amazing birds. Finish off the morning with your fairy tern inspired craft! This activity is suitable for children 4-7 years of age. Tickets must be purchased for participating children only \nBook now
URL:https://www.riverguardians.com/event/fabulous-fairy-terns-holiday-activity/
LOCATION:point walter reserve\, Honor Avenue\, Bicton\, WA\, Australia
ATTACH;FMTTYPE=image/jpeg:https://www.riverguardians.com/wp-content/uploads/2024/01/Take-the-bait.jpg
END:VEVENT
END:VCALENDAR