BEGIN:VCALENDAR
VERSION:2.0
PRODID:-//River Guardians - ECPv6.15.20//NONSGML v1.0//EN
CALSCALE:GREGORIAN
METHOD:PUBLISH
X-ORIGINAL-URL:https://www.riverguardians.com
X-WR-CALDESC:Events for River Guardians
REFRESH-INTERVAL;VALUE=DURATION:PT1H
X-Robots-Tag:noindex
X-PUBLISHED-TTL:PT1H
BEGIN:VTIMEZONE
TZID:Australia/Perth
BEGIN:STANDARD
TZOFFSETFROM:+0800
TZOFFSETTO:+0800
TZNAME:AWST
DTSTART:20230101T000000
END:STANDARD
END:VTIMEZONE
BEGIN:VEVENT
DTSTART;TZID=Australia/Perth:20240914T110000
DTEND;TZID=Australia/Perth:20240914T123000
DTSTAMP:20260419T093246
CREATED:20240829T031846Z
LAST-MODIFIED:20240829T032126Z
UID:1078-1726311600-1726317000@www.riverguardians.com
SUMMARY:Our Gardens\, with Josh Byrne - Better Gardens\, Healthier Rivers (Kings Park Festival)
DESCRIPTION:Our Gardens with Josh Byrne helps Perth residents develop climate resilient gardens while supporting the health of our iconic Swan and Canning Rivers. \nDelivered by ABC TV Gardening Australia presenter and environmental scientist Josh Byrne\, the audience will discover how to create diverse and productive gardens despite the challenges of climate change. He’ll demonstrate clever ways to save water\, increase biodiversity and support the health of our waterways. \nOur Gardens with Josh Byrne is supported by the Department of Biodiversity\, Conservation and Attractions and the River Guardians program. \nThis is a free event! \nhttps://www.bgpa.wa.gov.au/kings-park/events/everlasting-ideas-gardening-future
URL:https://www.riverguardians.com/event/our-gardens-with-josh-byrne-better-gardens-healthier-rivers-kings-park-festival/
LOCATION:Everlasting Ideas Marquee\, Corner of Lovekin and Forrest Drives\, Kings Park\, Perth\, WA\, 6000\, Australia
ATTACH;FMTTYPE=image/jpeg:https://www.riverguardians.com/wp-content/uploads/2024/08/Our_Gardens_Insta_2-scaled.jpg
ORGANIZER;CN="River Guardians":MAILTO:community@dbca.wa.gov.au
END:VEVENT
END:VCALENDAR