BEGIN:VCALENDAR
VERSION:2.0
PRODID:-//River Guardians - ECPv6.15.20//NONSGML v1.0//EN
CALSCALE:GREGORIAN
METHOD:PUBLISH
X-WR-CALNAME:River Guardians
X-ORIGINAL-URL:https://www.riverguardians.com
X-WR-CALDESC:Events for River Guardians
REFRESH-INTERVAL;VALUE=DURATION:PT1H
X-Robots-Tag:noindex
X-PUBLISHED-TTL:PT1H
BEGIN:VTIMEZONE
TZID:Australia/Perth
BEGIN:STANDARD
TZOFFSETFROM:+0800
TZOFFSETTO:+0800
TZNAME:AWST
DTSTART:20230101T000000
END:STANDARD
END:VTIMEZONE
BEGIN:VEVENT
DTSTART;TZID=Australia/Perth:20240119T170000
DTEND;TZID=Australia/Perth:20240119T190000
DTSTAMP:20260420T090554
CREATED:20231211T065404Z
LAST-MODIFIED:20231211T065404Z
UID:876-1705683600-1705690800@www.riverguardians.com
SUMMARY:StrEats @ South Perth
DESCRIPTION:We’ll be joining the City of South Perth’s Ranger team again at the StrEats Food Truck festival along the South Perth Foreshore! We will have our educational display and a kids craft activity\, hoping to chat with everyone about keeping the local wildlife safe this festive season. Come down to grab some delicious food\, and while you’re there\, stop in to have a chat and meet some of the City’s Rangers as we talk all things wildlife. \neducation stall South Perth
URL:https://www.riverguardians.com/event/streats-south-perth/
LOCATION:Sir James Mitchell Park\, South Perth Foreshore\, south perth\, WA\, 6151\, Australia
ATTACH;FMTTYPE=image/jpeg:https://www.riverguardians.com/wp-content/uploads/2023/12/Gemmas-photo.jpg
END:VEVENT
END:VCALENDAR